BEGIN:VCALENDAR
VERSION:2.0
PRODID:-//Dragon Tiger Casino Colorado - ECPv6.3.5//NONSGML v1.0//EN
CALSCALE:GREGORIAN
METHOD:PUBLISH
X-WR-CALNAME:Dragon Tiger Casino Colorado
X-ORIGINAL-URL:https://www.maverickgaming.com/dragon-tiger-casino-co
X-WR-CALDESC:Events for Dragon Tiger Casino Colorado
REFRESH-INTERVAL;VALUE=DURATION:PT1H
X-Robots-Tag:noindex
X-PUBLISHED-TTL:PT1H
BEGIN:VTIMEZONE
TZID:America/Denver
BEGIN:DAYLIGHT
TZOFFSETFROM:-0700
TZOFFSETTO:-0600
TZNAME:MDT
DTSTART:20240310T090000
END:DAYLIGHT
BEGIN:STANDARD
TZOFFSETFROM:-0600
TZOFFSETTO:-0700
TZNAME:MST
DTSTART:20241103T080000
END:STANDARD
END:VTIMEZONE
BEGIN:VEVENT
DTSTART;TZID=America/Denver:20240309T190000
DTEND;TZID=America/Denver:20240323T190000
DTSTAMP:20260419T074542
CREATED:20240315T040519Z
LAST-MODIFIED:20240315T040519Z
UID:4500-1710010800-1711220400@www.maverickgaming.com
SUMMARY:Dragon Tiger | $5k Baccarat Tournament
DESCRIPTION:Dragon Tiger $5k | Bi-Weekly Baccarat Tournaments at Dragon Tiger Casino | March 9 & 23rd | 7pm
URL:https://www.maverickgaming.com/dragon-tiger-casino-co/event/dragon-tiger-5k-baccarat-tournament/
LOCATION:Dragon Tiger Casino\, 132 Lawrence Street\, Central City\, CO\, 80427\, United States
ATTACH;FMTTYPE=image/jpeg:https://www.maverickgaming.com/dragon-tiger-casino-co/wp-content/uploads/sites/2/2024/03/600-Eblast_Baccarat-Tournament_Mar24_DT_GZ.jpg
END:VEVENT
END:VCALENDAR