BEGIN:VCALENDAR
VERSION:2.0
PRODID:-//Dragon Tiger Casino Colorado - ECPv6.3.5//NONSGML v1.0//EN
CALSCALE:GREGORIAN
METHOD:PUBLISH
X-ORIGINAL-URL:https://www.maverickgaming.com/dragon-tiger-casino-co
X-WR-CALDESC:Events for Dragon Tiger Casino Colorado
REFRESH-INTERVAL;VALUE=DURATION:PT1H
X-Robots-Tag:noindex
X-PUBLISHED-TTL:PT1H
BEGIN:VTIMEZONE
TZID:America/Denver
BEGIN:DAYLIGHT
TZOFFSETFROM:-0700
TZOFFSETTO:-0600
TZNAME:MDT
DTSTART:20260308T090000
END:DAYLIGHT
BEGIN:STANDARD
TZOFFSETFROM:-0600
TZOFFSETTO:-0700
TZNAME:MST
DTSTART:20261101T080000
END:STANDARD
END:VTIMEZONE
BEGIN:VEVENT
DTSTART;VALUE=DATE:20260214
DTEND;VALUE=DATE:20261226
DTSTAMP:20260423T060407
CREATED:20260125T211050Z
LAST-MODIFIED:20260125T211051Z
UID:4909-1771027200-1798243199@www.maverickgaming.com
SUMMARY:Lucky Ducks 2026 | Dragon Tiger Casino
DESCRIPTION:
URL:https://www.maverickgaming.com/dragon-tiger-casino-co/event/lucky-ducks-2026-dragon-tiger-casino/
LOCATION:Dragon Tiger Casino\, 132 Lawrence Street\, Central City\, CO\, 80427\, United States
CATEGORIES:Promotions
ATTACH;FMTTYPE=image/jpeg:https://www.maverickgaming.com/dragon-tiger-casino-co/wp-content/uploads/sites/2/2026/01/Lucky_Duck_Collection_Jan26-CO_1920x1080-Web.jpg
END:VEVENT
BEGIN:VEVENT
DTSTART;TZID=America/Denver:20260214T200000
DTEND;TZID=America/Denver:20260214T235900
DTSTAMP:20260423T060407
CREATED:20260125T212403Z
LAST-MODIFIED:20260125T212404Z
UID:4920-1771099200-1771113540@www.maverickgaming.com
SUMMARY:Valentine's Day Lucky Duck | Dragon Tiger Casino
DESCRIPTION:
URL:https://www.maverickgaming.com/dragon-tiger-casino-co/event/valentines-day-lucky-duck-dragon-tiger-casino/
LOCATION:Dragon Tiger Casino\, 132 Lawrence Street\, Central City\, CO\, 80427\, United States
CATEGORIES:Promotions
ATTACH;FMTTYPE=image/jpeg:https://www.maverickgaming.com/dragon-tiger-casino-co/wp-content/uploads/sites/2/2026/01/Valentines-Day-Lucky-Ducks_Feb26-CO_1920x1080-Web.jpg
END:VEVENT
BEGIN:VEVENT
DTSTART;VALUE=DATE:20260227
DTEND;VALUE=DATE:20260302
DTSTAMP:20260423T060407
CREATED:20260125T212034Z
LAST-MODIFIED:20260125T212035Z
UID:4917-1772150400-1772409599@www.maverickgaming.com
SUMMARY:Scratch & Win | Dragon Tiger Casino
DESCRIPTION:
URL:https://www.maverickgaming.com/dragon-tiger-casino-co/event/scratch-win-dragon-tiger-casino-2/
LOCATION:Dragon Tiger Casino\, 132 Lawrence Street\, Central City\, CO\, 80427\, United States
CATEGORIES:Promotions
ATTACH;FMTTYPE=image/jpeg:https://www.maverickgaming.com/dragon-tiger-casino-co/wp-content/uploads/sites/2/2026/01/Scratch__Win_Feb26-CO_1920x1080.jpg
END:VEVENT
BEGIN:VEVENT
DTSTART;VALUE=DATE:20260301
DTEND;VALUE=DATE:20260330
DTSTAMP:20260423T060407
CREATED:20260222T014821Z
LAST-MODIFIED:20260222T014822Z
UID:4929-1772323200-1774828799@www.maverickgaming.com
SUMMARY:March Match $33\,000 | Dragon Tiger Casino
DESCRIPTION:
URL:https://www.maverickgaming.com/dragon-tiger-casino-co/event/march-match-33000-dragon-tiger-casino/
LOCATION:Dragon Tiger Casino\, 132 Lawrence Street\, Central City\, CO\, 80427\, United States
CATEGORIES:Promotions
ATTACH;FMTTYPE=image/jpeg:https://www.maverickgaming.com/dragon-tiger-casino-co/wp-content/uploads/sites/2/2026/02/Match-Madness_Mar26-CO_1920x1080-Web.jpg
END:VEVENT
BEGIN:VEVENT
DTSTART;VALUE=DATE:20260304
DTEND;VALUE=DATE:20260305
DTSTAMP:20260423T060407
CREATED:20260222T014459Z
LAST-MODIFIED:20260222T014459Z
UID:4925-1772582400-1772668799@www.maverickgaming.com
SUMMARY:Mardi Gras Lucky Duck | Dragon Tiger Casino
DESCRIPTION:
URL:https://www.maverickgaming.com/dragon-tiger-casino-co/event/mardi-gras-lucky-duck-dragon-tiger-casino/
LOCATION:Dragon Tiger Casino\, 132 Lawrence Street\, Central City\, CO\, 80427\, United States
CATEGORIES:Promotions
ATTACH;FMTTYPE=image/jpeg:https://www.maverickgaming.com/dragon-tiger-casino-co/wp-content/uploads/sites/2/2026/02/Mardi-Gras-Lucky-Duck_Mar26-CO_1920x1080-Web.jpg
END:VEVENT
BEGIN:VEVENT
DTSTART;VALUE=DATE:20260317
DTEND;VALUE=DATE:20260318
DTSTAMP:20260423T060407
CREATED:20260222T015618Z
LAST-MODIFIED:20260222T015618Z
UID:4937-1773705600-1773791999@www.maverickgaming.com
SUMMARY:St. Patrick's Day Lucky Duck | Dragon Tiger Casino
DESCRIPTION:
URL:https://www.maverickgaming.com/dragon-tiger-casino-co/event/st-patricks-day-lucky-duck-dragon-tiger-casino/
LOCATION:Dragon Tiger Casino\, 132 Lawrence Street\, Central City\, CO\, 80427\, United States
CATEGORIES:Promotions
ATTACH;FMTTYPE=image/jpeg:https://www.maverickgaming.com/dragon-tiger-casino-co/wp-content/uploads/sites/2/2026/02/St.-Patricks-Day-Lucky-Duck_Mar26-CO_1920x1080-Web.jpg
END:VEVENT
BEGIN:VEVENT
DTSTART;VALUE=DATE:20260327
DTEND;VALUE=DATE:20260330
DTSTAMP:20260423T060407
CREATED:20260222T015314Z
LAST-MODIFIED:20260222T015315Z
UID:4933-1774569600-1774828799@www.maverickgaming.com
SUMMARY:Spring into Shopping | Dragon Tiger Casino
DESCRIPTION:
URL:https://www.maverickgaming.com/dragon-tiger-casino-co/event/spring-into-shopping-dragon-tiger-casino/
LOCATION:Dragon Tiger Casino\, 132 Lawrence Street\, Central City\, CO\, 80427\, United States
CATEGORIES:Giveaways,Promotions
ATTACH;FMTTYPE=image/jpeg:https://www.maverickgaming.com/dragon-tiger-casino-co/wp-content/uploads/sites/2/2026/02/Spring-Into-Shopping-Giveaway_Mar26-CO_1920x1080-Web.jpg
END:VEVENT
BEGIN:VEVENT
DTSTART;VALUE=DATE:20260401
DTEND;VALUE=DATE:20260427
DTSTAMP:20260423T060407
CREATED:20260319T171835Z
LAST-MODIFIED:20260319T171835Z
UID:4969-1775001600-1777247999@www.maverickgaming.com
SUMMARY:Great Egg Hunt $30\,000 | Dragon Tiger Casino
DESCRIPTION:
URL:https://www.maverickgaming.com/dragon-tiger-casino-co/event/great-egg-hunt-30000-dragon-tiger-casino/
LOCATION:Dragon Tiger Casino\, 132 Lawrence Street\, Central City\, CO\, 80427\, United States
CATEGORIES:Promotions
ATTACH;FMTTYPE=image/png:https://www.maverickgaming.com/dragon-tiger-casino-co/wp-content/uploads/sites/2/2026/03/30k-Great-Egg-Hunt_Apr26-CO_1920x1080.png
END:VEVENT
BEGIN:VEVENT
DTSTART;VALUE=DATE:20260404
DTEND;VALUE=DATE:20260405
DTSTAMP:20260423T060407
CREATED:20260319T175436Z
LAST-MODIFIED:20260319T175437Z
UID:4981-1775260800-1775347199@www.maverickgaming.com
SUMMARY:Table Games Hot Seats $3\,000 | Dragon Tiger Casino
DESCRIPTION:
URL:https://www.maverickgaming.com/dragon-tiger-casino-co/event/table-games-hot-seats-3000-dragon-tiger-casino/
LOCATION:Dragon Tiger Casino\, 132 Lawrence Street\, Central City\, CO\, 80427\, United States
CATEGORIES:Promotions
ATTACH;FMTTYPE=image/jpeg:https://www.maverickgaming.com/dragon-tiger-casino-co/wp-content/uploads/sites/2/2026/03/Table-Game-Hot-Seats_Apr26_DT-CO_1920x1080-Web.jpg
END:VEVENT
BEGIN:VEVENT
DTSTART;TZID=America/Denver:20260405T080000
DTEND;TZID=America/Denver:20260405T235900
DTSTAMP:20260423T060407
CREATED:20260319T172149Z
LAST-MODIFIED:20260319T172149Z
UID:4972-1775376000-1775433540@www.maverickgaming.com
SUMMARY:Easter Lucky Duck Giveaway | Dragon Tiger Casino
DESCRIPTION:
URL:https://www.maverickgaming.com/dragon-tiger-casino-co/event/easter-lucky-duck-giveaway-dragon-tiger-casino/
LOCATION:Dragon Tiger Casino\, 132 Lawrence Street\, Central City\, CO\, 80427\, United States
CATEGORIES:Giveaways,Promotions
ATTACH;FMTTYPE=image/jpeg:https://www.maverickgaming.com/dragon-tiger-casino-co/wp-content/uploads/sites/2/2026/03/Easter-Lucky-Duck_Apr26_CO_1920x1080-Web.jpg
END:VEVENT
BEGIN:VEVENT
DTSTART;VALUE=DATE:20260425
DTEND;VALUE=DATE:20260426
DTSTAMP:20260423T060407
CREATED:20251222T211025Z
LAST-MODIFIED:20251222T211026Z
UID:4893-1777075200-1777161599@www.maverickgaming.com
SUMMARY:Jackpot Party $10\,000 | Dragon Tiger Casino
DESCRIPTION:
URL:https://www.maverickgaming.com/dragon-tiger-casino-co/event/jackpot-party-10000-dragon-tiger-casino-6/
LOCATION:Dragon Tiger Casino\, 132 Lawrence Street\, Central City\, CO\, 80427\, United States
CATEGORIES:Promotions,Special Events
ATTACH;FMTTYPE=image/jpeg:https://www.maverickgaming.com/dragon-tiger-casino-co/wp-content/uploads/sites/2/2025/12/Jackpot-Party_Jan26_CO_1920x1080.jpg
END:VEVENT
BEGIN:VEVENT
DTSTART;VALUE=DATE:20260501
DTEND;VALUE=DATE:20260504
DTSTAMP:20260423T060407
CREATED:20260421T212601Z
LAST-MODIFIED:20260421T212601Z
UID:5010-1777593600-1777852799@www.maverickgaming.com
SUMMARY:Scratch & Win: May Edition | Dragon Tiger Casino
DESCRIPTION:
URL:https://www.maverickgaming.com/dragon-tiger-casino-co/event/scratch-win-may-edition-dragon-tiger-casino/
LOCATION:Dragon Tiger Casino\, 132 Lawrence Street\, Central City\, CO\, 80427\, United States
CATEGORIES:Promotions
ATTACH;FMTTYPE=image/jpeg:https://www.maverickgaming.com/dragon-tiger-casino-co/wp-content/uploads/sites/2/2026/04/Scratch-Win-Weekend_May26-CO_1920x1080.jpg
END:VEVENT
BEGIN:VEVENT
DTSTART;VALUE=DATE:20260501
DTEND;VALUE=DATE:20260526
DTSTAMP:20260423T060407
CREATED:20260421T210634Z
LAST-MODIFIED:20260421T210634Z
UID:4986-1777593600-1779753599@www.maverickgaming.com
SUMMARY:Escape to the Parks Giveaway $20\,000 | Dragon Tiger Casino
DESCRIPTION:
URL:https://www.maverickgaming.com/dragon-tiger-casino-co/event/escape-to-the-parks-giveaway-20000-dragon-tiger-casino/
LOCATION:Dragon Tiger Casino\, 132 Lawrence Street\, Central City\, CO\, 80427\, United States
CATEGORIES:Giveaways,Promotions
ATTACH;FMTTYPE=image/jpeg:https://www.maverickgaming.com/dragon-tiger-casino-co/wp-content/uploads/sites/2/2026/04/20k-Escape-to-the-Parks-Giveaway_May26-CO_1920x1080.jpg
END:VEVENT
BEGIN:VEVENT
DTSTART;VALUE=DATE:20260501
DTEND;VALUE=DATE:20260601
DTSTAMP:20260423T060407
CREATED:20260421T212422Z
LAST-MODIFIED:20260421T212422Z
UID:5007-1777593600-1780271999@www.maverickgaming.com
SUMMARY:Red\, White & Win $30\,000+ | Dragon Tiger Casino
DESCRIPTION:
URL:https://www.maverickgaming.com/dragon-tiger-casino-co/event/red-white-win-30000-dragon-tiger-casino/
LOCATION:Dragon Tiger Casino\, 132 Lawrence Street\, Central City\, CO\, 80427\, United States
CATEGORIES:Promotions
ATTACH;FMTTYPE=image/jpeg:https://www.maverickgaming.com/dragon-tiger-casino-co/wp-content/uploads/sites/2/2026/04/Red-White-Win_Apr26-CO_1920x1080.jpg
END:VEVENT
BEGIN:VEVENT
DTSTART;VALUE=DATE:20260502
DTEND;VALUE=DATE:20260510
DTSTAMP:20260423T060407
CREATED:20260421T212831Z
LAST-MODIFIED:20260421T212831Z
UID:5013-1777680000-1778371199@www.maverickgaming.com
SUMMARY:Table Games Hot Seats $4\,500 | Dragon Tiger Casino
DESCRIPTION:
URL:https://www.maverickgaming.com/dragon-tiger-casino-co/event/table-games-hot-seats-4500-dragon-tiger-casino/
LOCATION:Dragon Tiger Casino\, 132 Lawrence Street\, Central City\, CO\, 80427\, United States
CATEGORIES:Promotions
ATTACH;FMTTYPE=image/jpeg:https://www.maverickgaming.com/dragon-tiger-casino-co/wp-content/uploads/sites/2/2026/04/Table-Game-Hot-Seats_May26_GZ-DT_CO_1920x1080-Web.jpg
END:VEVENT
BEGIN:VEVENT
DTSTART;TZID=America/Denver:20260502T160000
DTEND;TZID=America/Denver:20260502T200000
DTSTAMP:20260423T060407
CREATED:20260421T211140Z
LAST-MODIFIED:20260421T211141Z
UID:4993-1777737600-1777752000@www.maverickgaming.com
SUMMARY:Mariachi Madness Slot Tournament | Dragon Tiger Casino
DESCRIPTION:
URL:https://www.maverickgaming.com/dragon-tiger-casino-co/event/mariachi-madness-slot-tournament-dragon-tiger-casino/
LOCATION:Dragon Tiger Casino\, 132 Lawrence Street\, Central City\, CO\, 80427\, United States
CATEGORIES:Promotions,Tournaments
ATTACH;FMTTYPE=image/jpeg:https://www.maverickgaming.com/dragon-tiger-casino-co/wp-content/uploads/sites/2/2026/04/Mariachi-Madness-Tournament_May26-CO_1920x1080-Web.jpg
END:VEVENT
BEGIN:VEVENT
DTSTART;TZID=America/Denver:20260505T080000
DTEND;TZID=America/Denver:20260505T235900
DTSTAMP:20260423T060407
CREATED:20260421T210807Z
LAST-MODIFIED:20260421T210807Z
UID:4989-1777968000-1778025540@www.maverickgaming.com
SUMMARY:Cinco de Mayo Lucky Duck Giveaway | Dragon Tiger Casino
DESCRIPTION:
URL:https://www.maverickgaming.com/dragon-tiger-casino-co/event/cinco-de-mayo-lucky-duck-giveaway-dragon-tiger-casino/
LOCATION:Dragon Tiger Casino\, 132 Lawrence Street\, Central City\, CO\, 80427\, United States
CATEGORIES:Giveaways,Promotions
ATTACH;FMTTYPE=image/jpeg:https://www.maverickgaming.com/dragon-tiger-casino-co/wp-content/uploads/sites/2/2026/04/Cinco-De-Mayo-Lucky-Duck_May26-CO_1920x1080-Web.jpg
END:VEVENT
BEGIN:VEVENT
DTSTART;VALUE=DATE:20260508
DTEND;VALUE=DATE:20260511
DTSTAMP:20260423T060407
CREATED:20260421T212047Z
LAST-MODIFIED:20260421T212047Z
UID:5001-1778198400-1778457599@www.maverickgaming.com
SUMMARY:Mother's Day Weekend Purse Prizes | Dragon Tiger Casino
DESCRIPTION:
URL:https://www.maverickgaming.com/dragon-tiger-casino-co/event/mothers-day-weekend-purse-prizes-dragon-tiger-casino/
LOCATION:Dragon Tiger Casino\, 132 Lawrence Street\, Central City\, CO\, 80427\, United States
CATEGORIES:Promotions
ATTACH;FMTTYPE=image/jpeg:https://www.maverickgaming.com/dragon-tiger-casino-co/wp-content/uploads/sites/2/2026/04/Mothers-Day-Weekend-Purse-Prizes_May26_CO_1920x1080.jpg
END:VEVENT
BEGIN:VEVENT
DTSTART;TZID=America/Denver:20260525T080000
DTEND;TZID=America/Denver:20260525T235900
DTSTAMP:20260423T060407
CREATED:20260421T211520Z
LAST-MODIFIED:20260421T211521Z
UID:4997-1779696000-1779753540@www.maverickgaming.com
SUMMARY:Memorial Day Lucky Duck Giveaway | Dragon Tiger Casino
DESCRIPTION:
URL:https://www.maverickgaming.com/dragon-tiger-casino-co/event/memorial-day-lucky-duck-giveaway-dragon-tiger-casino/
LOCATION:Dragon Tiger Casino\, 132 Lawrence Street\, Central City\, CO\, 80427\, United States
CATEGORIES:Giveaways,Promotions
ATTACH;FMTTYPE=image/jpeg:https://www.maverickgaming.com/dragon-tiger-casino-co/wp-content/uploads/sites/2/2026/04/Memorial-Day-Lucky-Duck_May26-CO_1920x1080-Web.jpg
END:VEVENT
BEGIN:VEVENT
DTSTART;VALUE=DATE:20260725
DTEND;VALUE=DATE:20260726
DTSTAMP:20260423T060407
CREATED:20260319T173131Z
LAST-MODIFIED:20260319T173131Z
UID:4977-1784937600-1785023999@www.maverickgaming.com
SUMMARY:Jackpot Party $10\,000 | Dragon Tiger Casino
DESCRIPTION:
URL:https://www.maverickgaming.com/dragon-tiger-casino-co/event/jackpot-party-10000-dragon-tiger-casino-7/
LOCATION:Dragon Tiger Casino\, 132 Lawrence Street\, Central City\, CO\, 80427\, United States
CATEGORIES:Promotions,Special Events
ATTACH;FMTTYPE=image/jpeg:https://www.maverickgaming.com/dragon-tiger-casino-co/wp-content/uploads/sites/2/2026/03/Jackpot-Party_Apr26_CO_1920x1080.jpg
END:VEVENT
END:VCALENDAR