BEGIN:VCALENDAR
VERSION:2.0
PRODID:-//Gold Country Inn - ECPv6.3.5//NONSGML v1.0//EN
CALSCALE:GREGORIAN
METHOD:PUBLISH
X-ORIGINAL-URL:https://www.maverickgaming.com/gold-country-inn
X-WR-CALDESC:Events for Gold Country Inn
REFRESH-INTERVAL;VALUE=DURATION:PT1H
X-Robots-Tag:noindex
X-PUBLISHED-TTL:PT1H
BEGIN:VTIMEZONE
TZID:UTC
BEGIN:STANDARD
TZOFFSETFROM:+0000
TZOFFSETTO:+0000
TZNAME:UTC
DTSTART:20250101T000000
END:STANDARD
END:VTIMEZONE
BEGIN:VEVENT
DTSTART;VALUE=DATE:20250605
DTEND;VALUE=DATE:20260529
DTSTAMP:20260426T035104
CREATED:20250522T054917Z
LAST-MODIFIED:20251211T162043Z
UID:1076-1749081600-1780012799@www.maverickgaming.com
SUMMARY:Thursday Pick and Pop | Gold Country Inn
DESCRIPTION:
URL:https://www.maverickgaming.com/gold-country-inn/event/thursday-pick-pop-gold-country-inn/
LOCATION:Gold Country Inn
CATEGORIES:Promotions
ATTACH;FMTTYPE=image/jpeg:https://www.maverickgaming.com/gold-country-inn/wp-content/uploads/sites/9/2025/05/Thursday_Pick__Pop_Jun25-Elko_1920x1080-web.jpg
END:VEVENT
BEGIN:VEVENT
DTSTART;VALUE=DATE:20260103
DTEND;VALUE=DATE:20260201
DTSTAMP:20260426T035104
CREATED:20251222T214451Z
LAST-MODIFIED:20251222T214451Z
UID:1252-1767398400-1769903999@www.maverickgaming.com
SUMMARY:Ultimate Free Play Kickoff | Gold Country Inn
DESCRIPTION:
URL:https://www.maverickgaming.com/gold-country-inn/event/ultimate-free-play-kickoff-gold-country-inn/
LOCATION:Gold Country Inn
CATEGORIES:Promotions
ATTACH;FMTTYPE=image/jpeg:https://www.maverickgaming.com/gold-country-inn/wp-content/uploads/sites/9/2025/12/Ultimate_Free_Play_Kickoff_Jan26-Elko_1920x1080-web.jpg
END:VEVENT
BEGIN:VEVENT
DTSTART;VALUE=DATE:20260106
DTEND;VALUE=DATE:20260128
DTSTAMP:20260426T035104
CREATED:20251222T213920Z
LAST-MODIFIED:20251222T213920Z
UID:1248-1767657600-1769558399@www.maverickgaming.com
SUMMARY:Toasty Tuesday Treats | Gold Country Inn
DESCRIPTION:
URL:https://www.maverickgaming.com/gold-country-inn/event/toasty-tuesday-treats-gold-country-inn/
LOCATION:Gold Country Inn
CATEGORIES:Giveaways,Promotions
ATTACH;FMTTYPE=image/jpeg:https://www.maverickgaming.com/gold-country-inn/wp-content/uploads/sites/9/2025/12/Toasty_Tuesday_Treats_Jan26-Elko_1920x1080-web.jpg
END:VEVENT
BEGIN:VEVENT
DTSTART;VALUE=DATE:20260129
DTEND;VALUE=DATE:20260130
DTSTAMP:20260426T035104
CREATED:20251222T212903Z
LAST-MODIFIED:20251222T212903Z
UID:1240-1769644800-1769731199@www.maverickgaming.com
SUMMARY:Frey Ranch Whiskey Giveaway | Gold Country Inn
DESCRIPTION:
URL:https://www.maverickgaming.com/gold-country-inn/event/frey-ranch-whiskey-giveaway-gold-country-inn-2/
LOCATION:Gold Country Inn
CATEGORIES:Giveaways,Promotions
ATTACH;FMTTYPE=image/jpeg:https://www.maverickgaming.com/gold-country-inn/wp-content/uploads/sites/9/2025/12/Frey-Ranch-Whiskey-Giveaway_Jan26_Elko_1920x1080-web.jpg
END:VEVENT
BEGIN:VEVENT
DTSTART;VALUE=DATE:20260131
DTEND;VALUE=DATE:20260301
DTSTAMP:20260426T035104
CREATED:20260125T214448Z
LAST-MODIFIED:20260125T214448Z
UID:1271-1769817600-1772323199@www.maverickgaming.com
SUMMARY:Saturday Night Free Play Fever | Gold Country Inn
DESCRIPTION:
URL:https://www.maverickgaming.com/gold-country-inn/event/saturday-night-free-play-fever-gold-country-inn/
LOCATION:Gold Country Inn
CATEGORIES:Promotions
ATTACH;FMTTYPE=image/jpeg:https://www.maverickgaming.com/gold-country-inn/wp-content/uploads/sites/9/2026/01/Saturday-Night-Free-Play-Fever_Feb26-Elko_1920x1080-web.jpg
END:VEVENT
BEGIN:VEVENT
DTSTART;VALUE=DATE:20260203
DTEND;VALUE=DATE:20260225
DTSTAMP:20260426T035105
CREATED:20260125T213636Z
LAST-MODIFIED:20260125T213636Z
UID:1263-1770076800-1771977599@www.maverickgaming.com
SUMMARY:Heart of the Home Tuesday Gifts | Gold Country Inn
DESCRIPTION:
URL:https://www.maverickgaming.com/gold-country-inn/event/heart-of-the-home-tuesday-gifts-gold-country-inn/
LOCATION:Gold Country Inn
CATEGORIES:Giveaways,Promotions
ATTACH;FMTTYPE=image/jpeg:https://www.maverickgaming.com/gold-country-inn/wp-content/uploads/sites/9/2026/01/Heart-of-the-Home-Tuesday-Gifts_Feb26-Elko_1920x1080-web.jpg
END:VEVENT
BEGIN:VEVENT
DTSTART;TZID=UTC:20260208T080000
DTEND;TZID=UTC:20260208T170000
DTSTAMP:20260426T035105
CREATED:20260125T215142Z
LAST-MODIFIED:20260125T215237Z
UID:1275-1770537600-1770570000@www.maverickgaming.com
SUMMARY:SuperBULL III Party | Gold Country Inn
DESCRIPTION:
URL:https://www.maverickgaming.com/gold-country-inn/event/superbull-party-gold-country-inn-2/
LOCATION:Gold Country Inn
CATEGORIES:Promotions,Special Events
ATTACH;FMTTYPE=image/jpeg:https://www.maverickgaming.com/gold-country-inn/wp-content/uploads/sites/9/2026/01/SuperBULL-Party_Feb26_Elko_1920x1080-WEB.jpg
END:VEVENT
BEGIN:VEVENT
DTSTART;VALUE=DATE:20260214
DTEND;VALUE=DATE:20260215
DTSTAMP:20260426T035105
CREATED:20260125T214004Z
LAST-MODIFIED:20260125T214004Z
UID:1267-1771027200-1771113599@www.maverickgaming.com
SUMMARY:Heart Throbbin' Hot Seats | Gold Country Inn
DESCRIPTION:
URL:https://www.maverickgaming.com/gold-country-inn/event/heart-throbbin-hot-seats-gold-country-inn-2/
LOCATION:Gold Country Inn
CATEGORIES:Promotions
ATTACH;FMTTYPE=image/jpeg:https://www.maverickgaming.com/gold-country-inn/wp-content/uploads/sites/9/2026/01/Heart-Throbbin-Hot-Seats_Feb26_Elko_1920x1080-web.jpg
END:VEVENT
BEGIN:VEVENT
DTSTART;VALUE=DATE:20260303
DTEND;VALUE=DATE:20260401
DTSTAMP:20260426T035105
CREATED:20260222T021141Z
LAST-MODIFIED:20260222T021142Z
UID:1294-1772496000-1775001599@www.maverickgaming.com
SUMMARY:Kitchen Classics Tuesday Gifts | Gold Country Inn
DESCRIPTION:
URL:https://www.maverickgaming.com/gold-country-inn/event/kitchen-classics-tuesday-gifts-gold-country-inn/
LOCATION:Gold Country Inn
CATEGORIES:Giveaways,Promotions
ATTACH;FMTTYPE=image/jpeg:https://www.maverickgaming.com/gold-country-inn/wp-content/uploads/sites/9/2026/02/Kitchen-Classics-Tuesday-Gifts_Mar26-Elko_1920x1080-web.jpg
END:VEVENT
BEGIN:VEVENT
DTSTART;VALUE=DATE:20260313
DTEND;VALUE=DATE:20260314
DTSTAMP:20260426T035105
CREATED:20260222T020920Z
LAST-MODIFIED:20260222T020921Z
UID:1290-1773360000-1773446399@www.maverickgaming.com
SUMMARY:Jackpot Party $2\,500 | Gold Country Inn
DESCRIPTION:
URL:https://www.maverickgaming.com/gold-country-inn/event/jackpot-party-2500-gold-country-inn-9/
LOCATION:Gold Country Inn
CATEGORIES:Promotions,Special Events
ATTACH;FMTTYPE=image/jpeg:https://www.maverickgaming.com/gold-country-inn/wp-content/uploads/sites/9/2026/02/Jackpot-Party_Mar26_Elko_WEB_1920x1080.jpg
END:VEVENT
BEGIN:VEVENT
DTSTART;VALUE=DATE:20260314
DTEND;VALUE=DATE:20260315
DTSTAMP:20260426T035105
CREATED:20260222T020649Z
LAST-MODIFIED:20260222T020649Z
UID:1286-1773446400-1773532799@www.maverickgaming.com
SUMMARY:Gold Rush Hot Seats | Gold Country Inn
DESCRIPTION:
URL:https://www.maverickgaming.com/gold-country-inn/event/gold-rush-hot-seats-gold-country-inn/
LOCATION:Gold Country Inn
CATEGORIES:Promotions
ATTACH;FMTTYPE=image/jpeg:https://www.maverickgaming.com/gold-country-inn/wp-content/uploads/sites/9/2026/02/Gold-Rush-Hot-Seats_Mar26-Elko_1920x1080-web.jpg
END:VEVENT
BEGIN:VEVENT
DTSTART;VALUE=DATE:20260403
DTEND;VALUE=DATE:20260405
DTSTAMP:20260426T035105
CREATED:20260319T180553Z
LAST-MODIFIED:20260319T180553Z
UID:1303-1775174400-1775347199@www.maverickgaming.com
SUMMARY:Spring Scratcher Spectacular | Gold Country Inn
DESCRIPTION:
URL:https://www.maverickgaming.com/gold-country-inn/event/spring-scratcher-spectacular-gold-country-inn/
LOCATION:Gold Country Inn
CATEGORIES:Promotions
ATTACH;FMTTYPE=image/jpeg:https://www.maverickgaming.com/gold-country-inn/wp-content/uploads/sites/9/2026/03/Spring-Scratcher-Spectacular_Mar26_Elko_1920x1080-web.jpg
END:VEVENT
BEGIN:VEVENT
DTSTART;VALUE=DATE:20260407
DTEND;VALUE=DATE:20260429
DTSTAMP:20260426T035105
CREATED:20260319T181308Z
LAST-MODIFIED:20260319T181309Z
UID:1307-1775520000-1777420799@www.maverickgaming.com
SUMMARY:Winning Wellness Tuesday Gifts | Gold Country Inn
DESCRIPTION:
URL:https://www.maverickgaming.com/gold-country-inn/event/winning-wellness-tuesday-gifts-gold-country-inn/
LOCATION:Gold Country Inn
CATEGORIES:Giveaways,Promotions
ATTACH;FMTTYPE=image/jpeg:https://www.maverickgaming.com/gold-country-inn/wp-content/uploads/sites/9/2026/03/Winning-Wellness-Tuesday-Gifts_Apr26-Elko_1920x1080-web.jpg
END:VEVENT
BEGIN:VEVENT
DTSTART;VALUE=DATE:20260501
DTEND;VALUE=DATE:20260531
DTSTAMP:20260426T035105
CREATED:20260422T035905Z
LAST-MODIFIED:20260422T035915Z
UID:1325-1777593600-1780185599@www.maverickgaming.com
SUMMARY:Paddle & Play Giveaway | Gold Country Inn
DESCRIPTION:
URL:https://www.maverickgaming.com/gold-country-inn/event/1325/
LOCATION:Gold Country Inn
CATEGORIES:Giveaways,Promotions
ATTACH;FMTTYPE=image/jpeg:https://www.maverickgaming.com/gold-country-inn/wp-content/uploads/sites/9/2026/04/Paddle-Play-Giveaway_May26-Elko_1920x1080.jpg
END:VEVENT
BEGIN:VEVENT
DTSTART;TZID=UTC:20260502T180000
DTEND;TZID=UTC:20260502T230000
DTSTAMP:20260426T035105
CREATED:20260422T040150Z
LAST-MODIFIED:20260422T040150Z
UID:1330-1777744800-1777762800@www.maverickgaming.com
SUMMARY:Pick Your Piñata Hot Seats | Gold Country Inn
DESCRIPTION:
URL:https://www.maverickgaming.com/gold-country-inn/event/pick-your-pinata-hot-seats-gold-country-inn/
LOCATION:Gold Country Inn
CATEGORIES:Promotions
ATTACH;FMTTYPE=image/jpeg:https://www.maverickgaming.com/gold-country-inn/wp-content/uploads/sites/9/2026/04/Pick-Your-Pinata-Hot-Seats-Elko_1920x1080-web.jpg
END:VEVENT
BEGIN:VEVENT
DTSTART;VALUE=DATE:20260505
DTEND;VALUE=DATE:20260527
DTSTAMP:20260426T035105
CREATED:20260422T035456Z
LAST-MODIFIED:20260422T035456Z
UID:1317-1777939200-1779839999@www.maverickgaming.com
SUMMARY:Glo & Go Tuesday Gifts | Gold Country Inn
DESCRIPTION:
URL:https://www.maverickgaming.com/gold-country-inn/event/glo-go-tuesday-gifts-gold-country-inn/
LOCATION:Gold Country Inn
CATEGORIES:Giveaways,Promotions
ATTACH;FMTTYPE=image/jpeg:https://www.maverickgaming.com/gold-country-inn/wp-content/uploads/sites/9/2026/04/Glo-Go-Tuesday-Gifts_Apr26-Elko_1920x1080-web.jpg
END:VEVENT
BEGIN:VEVENT
DTSTART;VALUE=DATE:20260508
DTEND;VALUE=DATE:20260509
DTSTAMP:20260426T035105
CREATED:20260422T035627Z
LAST-MODIFIED:20260422T035627Z
UID:1321-1778198400-1778284799@www.maverickgaming.com
SUMMARY:Jackpot Party $2\,500 | Gold Country Inn
DESCRIPTION:
URL:https://www.maverickgaming.com/gold-country-inn/event/jackpot-party-2500-gold-country-inn-10/
LOCATION:Gold Country Inn
CATEGORIES:Promotions,Special Events
ATTACH;FMTTYPE=image/jpeg:https://www.maverickgaming.com/gold-country-inn/wp-content/uploads/sites/9/2026/04/Jackpot-Party_May26_Elko_WEB_1920x1080.jpg
END:VEVENT
END:VCALENDAR