BEGIN:VCALENDAR
VERSION:2.0
PRODID:-//Gold Country Inn - ECPv6.3.5//NONSGML v1.0//EN
CALSCALE:GREGORIAN
METHOD:PUBLISH
X-WR-CALNAME:Gold Country Inn
X-ORIGINAL-URL:https://www.maverickgaming.com/gold-country-inn
X-WR-CALDESC:Events for Gold Country Inn
REFRESH-INTERVAL;VALUE=DURATION:PT1H
X-Robots-Tag:noindex
X-PUBLISHED-TTL:PT1H
BEGIN:VTIMEZONE
TZID:UTC
BEGIN:STANDARD
TZOFFSETFROM:+0000
TZOFFSETTO:+0000
TZNAME:UTC
DTSTART:20240101T000000
END:STANDARD
END:VTIMEZONE
BEGIN:VEVENT
DTSTART;VALUE=DATE:20250401
DTEND;VALUE=DATE:20250427
DTSTAMP:20260426T015541
CREATED:20250325T222302Z
LAST-MODIFIED:20250325T222302Z
UID:1048-1743465600-1745711999@www.maverickgaming.com
SUMMARY:Lake Boat Giveaway $30\,000 | Gold Country Inn
DESCRIPTION:
URL:https://www.maverickgaming.com/gold-country-inn/event/lake-boat-giveaway-30000-gold-country-inn/
LOCATION:Gold Country Inn
CATEGORIES:Giveaways
ATTACH;FMTTYPE=image/jpeg:https://www.maverickgaming.com/gold-country-inn/wp-content/uploads/sites/9/2025/03/SpeedboatGiveaway_Apr25-Elko_1920x1080.jpg
END:VEVENT
BEGIN:VEVENT
DTSTART;VALUE=DATE:20250316
DTEND;VALUE=DATE:20250318
DTSTAMP:20260426T015542
CREATED:20250226T021330Z
LAST-MODIFIED:20250226T021331Z
UID:1035-1742083200-1742255999@www.maverickgaming.com
SUMMARY:St. Patrick's Day Free Play | Gold Country Inn
DESCRIPTION:
URL:https://www.maverickgaming.com/gold-country-inn/event/st-patricks-day-free-play-gold-country-inn/
LOCATION:Gold Country Inn
CATEGORIES:Promotions
ATTACH;FMTTYPE=image/jpeg:https://www.maverickgaming.com/gold-country-inn/wp-content/uploads/sites/9/2025/02/StPatricksDayFreePlay_Mar25-Elko_1920x1080-web.jpg
END:VEVENT
BEGIN:VEVENT
DTSTART;VALUE=DATE:20250314
DTEND;VALUE=DATE:20250315
DTSTAMP:20260426T015542
CREATED:20250226T020650Z
LAST-MODIFIED:20250226T020650Z
UID:1027-1741910400-1741996799@www.maverickgaming.com
SUMMARY:Jackpot Party $2\,500 | Gold Country Inn
DESCRIPTION:
URL:https://www.maverickgaming.com/gold-country-inn/event/jackpot-party-2500-gold-country-inn-3/
LOCATION:Gold Country Inn
CATEGORIES:Promotions
ATTACH;FMTTYPE=image/jpeg:https://www.maverickgaming.com/gold-country-inn/wp-content/uploads/sites/9/2025/02/Jackpot-Party_Mar25_Elko_WEB_1920x1080.jpg
END:VEVENT
BEGIN:VEVENT
DTSTART;VALUE=DATE:20250304
DTEND;VALUE=DATE:20250326
DTSTAMP:20260426T015542
CREATED:20250226T020102Z
LAST-MODIFIED:20250226T020103Z
UID:1025-1741046400-1742947199@www.maverickgaming.com
SUMMARY:Back to Bed Tuesday Gifts | Gold Country Inn
DESCRIPTION:
URL:https://www.maverickgaming.com/gold-country-inn/event/back-to-bed-tuesday-gifts-gold-country-inn/
LOCATION:Gold Country Inn
CATEGORIES:Giveaways
ATTACH;FMTTYPE=image/jpeg:https://www.maverickgaming.com/gold-country-inn/wp-content/uploads/sites/9/2025/02/BacktoBed_Mar25-Elko_1920x1080-web.jpg
END:VEVENT
BEGIN:VEVENT
DTSTART;TZID=UTC:20250301T210000
DTEND;TZID=UTC:20250329T235900
DTSTAMP:20260426T015542
CREATED:20250226T015710Z
LAST-MODIFIED:20250226T015710Z
UID:1018-1740862800-1743292740@www.maverickgaming.com
SUMMARY:Luck of the Draw Hot Seats | Gold Country Inn
DESCRIPTION:
URL:https://www.maverickgaming.com/gold-country-inn/event/luck-of-the-draw-hot-seats-gold-country-inn/
LOCATION:Gold Country Inn
CATEGORIES:Promotions
ATTACH;FMTTYPE=image/jpeg:https://www.maverickgaming.com/gold-country-inn/wp-content/uploads/sites/9/2025/02/6k-Luck-of-the-Draw_Mar25-Elko_WEB_1920x1080.jpg
END:VEVENT
BEGIN:VEVENT
DTSTART;TZID=UTC:20250209T150000
DTEND;TZID=UTC:20250209T200000
DTSTAMP:20260426T015542
CREATED:20250124T190724Z
LAST-MODIFIED:20250124T190724Z
UID:1012-1739113200-1739131200@www.maverickgaming.com
SUMMARY:SuperBULL Party | Gold Country Inn
DESCRIPTION:
URL:https://www.maverickgaming.com/gold-country-inn/event/superbull-party-gold-country-inn/
LOCATION:Gold Country Inn
CATEGORIES:Special Events
ATTACH;FMTTYPE=image/jpeg:https://www.maverickgaming.com/gold-country-inn/wp-content/uploads/sites/9/2025/01/SuperBULL-Party_Feb25_Elko_1920x1080.jpg
END:VEVENT
BEGIN:VEVENT
DTSTART;VALUE=DATE:20250204
DTEND;VALUE=DATE:20250226
DTSTAMP:20260426T015542
CREATED:20250124T190233Z
LAST-MODIFIED:20250124T190233Z
UID:1009-1738627200-1740527999@www.maverickgaming.com
SUMMARY:Pizza My Heart Gift Giveaways | Gold Country Inn
DESCRIPTION:
URL:https://www.maverickgaming.com/gold-country-inn/event/pizza-my-heart-gift-giveaways-gold-country-inn/
LOCATION:Gold Country Inn
CATEGORIES:Giveaways
ATTACH;FMTTYPE=image/jpeg:https://www.maverickgaming.com/gold-country-inn/wp-content/uploads/sites/9/2025/01/PizzaMyHeart_TuesdayGifts_Feb25-Elko_1920x1080.jpg
END:VEVENT
BEGIN:VEVENT
DTSTART;TZID=UTC:20250201T080000
DTEND;TZID=UTC:20250403T230000
DTSTAMP:20260426T015542
CREATED:20241003T041958Z
LAST-MODIFIED:20250201T034327Z
UID:944-1738396800-1743721200@www.maverickgaming.com
SUMMARY:Birthday's This Month Receive Free Play | Gold Country Elko
DESCRIPTION:
URL:https://www.maverickgaming.com/gold-country-inn/event/october-birthdays-receive-free-play-gold-country-elko/
LOCATION:Gold Country Inn
CATEGORIES:Promotions
ATTACH;FMTTYPE=image/jpeg:https://www.maverickgaming.com/gold-country-inn/wp-content/uploads/sites/9/2024/10/BirthdayFreePlay_Oct24-Elko_1920x1080.jpg
END:VEVENT
BEGIN:VEVENT
DTSTART;VALUE=DATE:20250201
DTEND;VALUE=DATE:20250223
DTSTAMP:20260426T015542
CREATED:20250124T190019Z
LAST-MODIFIED:20250124T190019Z
UID:1005-1738368000-1740268799@www.maverickgaming.com
SUMMARY:Heart Throbbin' Hot Seats | Gold Country Inn
DESCRIPTION:
URL:https://www.maverickgaming.com/gold-country-inn/event/heart-throbbin-hot-seats-gold-country-inn/
LOCATION:Gold Country Inn
CATEGORIES:Promotions
ATTACH;FMTTYPE=image/jpeg:https://www.maverickgaming.com/gold-country-inn/wp-content/uploads/sites/9/2025/01/6k_HeartThrobbin_HotSeats_Feb25-Elko_1920x1080-web.jpg
END:VEVENT
BEGIN:VEVENT
DTSTART;VALUE=DATE:20250130
DTEND;VALUE=DATE:20250203
DTSTAMP:20260426T015542
CREATED:20241226T025805Z
LAST-MODIFIED:20241226T025805Z
UID:988-1738195200-1738540799@www.maverickgaming.com
SUMMARY:Frey Ranch Whiskey Giveaway | Gold Country Inn
DESCRIPTION:
URL:https://www.maverickgaming.com/gold-country-inn/event/frey-ranch-whiskey-giveaway-gold-country-inn/
LOCATION:Gold Country Inn
CATEGORIES:Giveaways
ATTACH;FMTTYPE=image/jpeg:https://www.maverickgaming.com/gold-country-inn/wp-content/uploads/sites/9/2024/12/FreyRanchWhiskeyGiveaway_Dec24-Elko_1920x1080-web.jpg
END:VEVENT
BEGIN:VEVENT
DTSTART;TZID=UTC:20250110T181500
DTEND;TZID=UTC:20250110T181500
DTSTAMP:20260426T015542
CREATED:20241226T030045Z
LAST-MODIFIED:20241226T030045Z
UID:992-1736532900-1736532900@www.maverickgaming.com
SUMMARY:Jackpot Party $2\,500 | Gold Country Inn
DESCRIPTION:
URL:https://www.maverickgaming.com/gold-country-inn/event/jackpot-party-2500-gold-country-inn-2/
LOCATION:Gold Country Inn
CATEGORIES:Special Events
ATTACH;FMTTYPE=image/png:https://www.maverickgaming.com/gold-country-inn/wp-content/uploads/sites/9/2024/12/Jackpot-Party_Jan25_Elko_WEB_1920x1080.png
END:VEVENT
BEGIN:VEVENT
DTSTART;VALUE=DATE:20250107
DTEND;VALUE=DATE:20250129
DTSTAMP:20260426T015542
CREATED:20241226T030708Z
LAST-MODIFIED:20241226T030708Z
UID:996-1736208000-1738108799@www.maverickgaming.com
SUMMARY:New Year\, New Me! Giveaways | Gold Country Inn
DESCRIPTION:
URL:https://www.maverickgaming.com/gold-country-inn/event/new-year-new-me-giveaways-gold-country-inn/
LOCATION:Gold Country Inn
CATEGORIES:Giveaways
ATTACH;FMTTYPE=image/jpeg:https://www.maverickgaming.com/gold-country-inn/wp-content/uploads/sites/9/2024/12/NewYear_NewMeTuesdayGifts_Jan25-Elko_1920x1080-web.jpg
END:VEVENT
BEGIN:VEVENT
DTSTART;TZID=UTC:20250104T210000
DTEND;TZID=UTC:20250125T235900
DTSTAMP:20260426T015542
CREATED:20241226T030938Z
LAST-MODIFIED:20241226T030938Z
UID:1000-1736024400-1737849540@www.maverickgaming.com
SUMMARY:Saturday Night Cash Hot Seats | Gold Country Inn
DESCRIPTION:
URL:https://www.maverickgaming.com/gold-country-inn/event/saturday-night-cash-hot-seats-gold-country-inn/
LOCATION:Gold Country Inn
CATEGORIES:Promotions
ATTACH;FMTTYPE=image/jpeg:https://www.maverickgaming.com/gold-country-inn/wp-content/uploads/sites/9/2024/12/SaturdayNightCashHotSeats_Jan25-Elko_1920x1080-web.jpg
END:VEVENT
BEGIN:VEVENT
DTSTART;TZID=UTC:20241231T200000
DTEND;TZID=UTC:20250101T010000
DTSTAMP:20260426T015542
CREATED:20241122T213851Z
LAST-MODIFIED:20241122T213852Z
UID:975-1735675200-1735693200@www.maverickgaming.com
SUMMARY:New Year's Eve Floorwide Party | Gold Country Inn
DESCRIPTION:
URL:https://www.maverickgaming.com/gold-country-inn/event/new-years-eve-floorwide-party-gold-country-inn/
LOCATION:Gold Country Inn
CATEGORIES:Special Events
ATTACH;FMTTYPE=image/jpeg:https://www.maverickgaming.com/gold-country-inn/wp-content/uploads/sites/9/2024/11/2025_NYE_Party_Nov24-Elko_1920x1080-web.jpg
END:VEVENT
BEGIN:VEVENT
DTSTART;VALUE=DATE:20241223
DTEND;VALUE=DATE:20241226
DTSTAMP:20260426T015542
CREATED:20241122T214606Z
LAST-MODIFIED:20241122T214606Z
UID:979-1734912000-1735171199@www.maverickgaming.com
SUMMARY:Santa's Goodie Bag | Gold Country Inn
DESCRIPTION:
URL:https://www.maverickgaming.com/gold-country-inn/event/santas-goodie-bag-gold-country-inn/
LOCATION:Gold Country Inn
CATEGORIES:Promotions
ATTACH;FMTTYPE=image/jpeg:https://www.maverickgaming.com/gold-country-inn/wp-content/uploads/sites/9/2024/11/Santas_Goodie_Bag_Dec24-Elko_1920x1080-web.jpg
END:VEVENT
BEGIN:VEVENT
DTSTART;VALUE=DATE:20241207
DTEND;VALUE=DATE:20241229
DTSTAMP:20260426T015542
CREATED:20241122T214850Z
LAST-MODIFIED:20241122T214850Z
UID:983-1733529600-1735430399@www.maverickgaming.com
SUMMARY:Walmart Hot Seats | Gold Country Inn
DESCRIPTION:
URL:https://www.maverickgaming.com/gold-country-inn/event/walmart-hot-seats-gold-country-inn/
LOCATION:Gold Country Inn
ATTACH;FMTTYPE=image/jpeg:https://www.maverickgaming.com/gold-country-inn/wp-content/uploads/sites/9/2024/11/Walmart-Gift-Card_Dec24_Elko_WEB_1920x1080.jpg
END:VEVENT
BEGIN:VEVENT
DTSTART;VALUE=DATE:20241203
DTEND;VALUE=DATE:20241225
DTSTAMP:20260426T015542
CREATED:20241122T213530Z
LAST-MODIFIED:20241122T213530Z
UID:971-1733184000-1735084799@www.maverickgaming.com
SUMMARY:Jetsetter Tuesday Gift Giveaway | Gold Country Inn
DESCRIPTION:
URL:https://www.maverickgaming.com/gold-country-inn/event/jetsetter-tuesday-gift-giveaway-gold-country-inn/
LOCATION:Gold Country Inn
CATEGORIES:Giveaways
ATTACH;FMTTYPE=image/jpeg:https://www.maverickgaming.com/gold-country-inn/wp-content/uploads/sites/9/2024/11/JetsetterTuesdayGifts_Nov24-Elko_1920x1080-web.jpg
END:VEVENT
BEGIN:VEVENT
DTSTART;VALUE=DATE:20241127
DTEND;VALUE=DATE:20241201
DTSTAMP:20260426T015542
CREATED:20241024T210222Z
LAST-MODIFIED:20241024T210222Z
UID:952-1732665600-1733011199@www.maverickgaming.com
SUMMARY:Black Friday Free Play Bonus | Gold Country Inn
DESCRIPTION:
URL:https://www.maverickgaming.com/gold-country-inn/event/black-friday-free-play-bonus-gold-country-inn/
LOCATION:Gold Country Inn
ATTACH;FMTTYPE=image/jpeg:https://www.maverickgaming.com/gold-country-inn/wp-content/uploads/sites/9/2024/10/ThanksgivingFreePlayBonus_Nov24-Elko_1920x1080-web.jpg
END:VEVENT
BEGIN:VEVENT
DTSTART;TZID=UTC:20241108T180000
DTEND;TZID=UTC:20241108T190000
DTSTAMP:20260426T015542
CREATED:20241024T211604Z
LAST-MODIFIED:20241024T211605Z
UID:964-1731088800-1731092400@www.maverickgaming.com
SUMMARY:Jackpot Party $2\,500 | Gold Country Inn
DESCRIPTION:
URL:https://www.maverickgaming.com/gold-country-inn/event/jackpot-party-2500-gold-country-inn/
LOCATION:Gold Country Inn
CATEGORIES:Promotions
ATTACH;FMTTYPE=image/jpeg:https://www.maverickgaming.com/gold-country-inn/wp-content/uploads/sites/9/2024/10/Jackpot-Party_Nov24_Elko_WEB_1920x1080.jpg
END:VEVENT
BEGIN:VEVENT
DTSTART;VALUE=DATE:20241105
DTEND;VALUE=DATE:20241127
DTSTAMP:20260426T015542
CREATED:20241024T212152Z
LAST-MODIFIED:20241024T212152Z
UID:966-1730764800-1732665599@www.maverickgaming.com
SUMMARY:Thanksgiving Tuesday Gifts | Gold Country Inn
DESCRIPTION:
URL:https://www.maverickgaming.com/gold-country-inn/event/thanksgiving-tuesday-gifts-gold-country-inn/
LOCATION:Gold Country Inn
CATEGORIES:Giveaways
ATTACH;FMTTYPE=image/jpeg:https://www.maverickgaming.com/gold-country-inn/wp-content/uploads/sites/9/2024/10/ThanksgivingTuesdayGifts_Nov24-Elko_1920x1080-web.jpg
END:VEVENT
BEGIN:VEVENT
DTSTART;TZID=UTC:20241102T220000
DTEND;TZID=UTC:20241201T000000
DTSTAMP:20260426T015542
CREATED:20241024T205419Z
LAST-MODIFIED:20241024T205419Z
UID:948-1730584800-1733011200@www.maverickgaming.com
SUMMARY:Hot Slot Tournament $10\,000 | Gold Country Inn
DESCRIPTION:
URL:https://www.maverickgaming.com/gold-country-inn/event/hot-slot-tournament-10000-gold-country-inn/
LOCATION:Gold Country Inn
CATEGORIES:Tournament
ATTACH;FMTTYPE=image/jpeg:https://www.maverickgaming.com/gold-country-inn/wp-content/uploads/sites/9/2024/10/10k_HotSlotTournament_Nov24-Elko_1920x1080-web.jpg
END:VEVENT
BEGIN:VEVENT
DTSTART;VALUE=DATE:20241031
DTEND;VALUE=DATE:20241201
DTSTAMP:20260426T015542
CREATED:20241024T211118Z
LAST-MODIFIED:20241024T211118Z
UID:956-1730332800-1733011199@www.maverickgaming.com
SUMMARY:Delta Gift Card Giveaway | Gold Country Inn
DESCRIPTION:
URL:https://www.maverickgaming.com/gold-country-inn/event/delta-gift-card-giveaway-gold-country-inn/
LOCATION:Gold Country Inn
CATEGORIES:Giveaways
ATTACH;FMTTYPE=image/jpeg:https://www.maverickgaming.com/gold-country-inn/wp-content/uploads/sites/9/2024/10/Delta-Gift-Cards_Nov24-Elko_1920x1080-web.jpg
END:VEVENT
BEGIN:VEVENT
DTSTART;VALUE=DATE:20241031
DTEND;VALUE=DATE:20241101
DTSTAMP:20260426T015542
CREATED:20240919T222827Z
LAST-MODIFIED:20241003T033209Z
UID:929-1730332800-1730419199@www.maverickgaming.com
SUMMARY:Pick Your Treat Free Play | Gold Country Casino
DESCRIPTION:
URL:https://www.maverickgaming.com/gold-country-inn/event/pick-your-treat-free-play-gold-country-inn/
LOCATION:Gold Country Inn
CATEGORIES:Promotions
ATTACH;FMTTYPE=image/jpeg:https://www.maverickgaming.com/gold-country-inn/wp-content/uploads/sites/9/2024/09/Pick-Your-Treat_Oct24_Elko_1920x1080.jpg
END:VEVENT
BEGIN:VEVENT
DTSTART;VALUE=DATE:20241005
DTEND;VALUE=DATE:20241027
DTSTAMP:20260426T015542
CREATED:20240919T222320Z
LAST-MODIFIED:20241003T033331Z
UID:926-1728086400-1729987199@www.maverickgaming.com
SUMMARY:Pick Your Pumpkin Hot Seats | Gold Country Casino
DESCRIPTION:
URL:https://www.maverickgaming.com/gold-country-inn/event/pick-your-pumpkin-hot-seats-gold-country-casino/
LOCATION:Gold Country Inn
CATEGORIES:Promotions
ATTACH;FMTTYPE=image/jpeg:https://www.maverickgaming.com/gold-country-inn/wp-content/uploads/sites/9/2024/09/6k_Pick_Your_Pumpkin_Hot_Seats_Oct24-Elko_1920x1080.jpg
END:VEVENT
BEGIN:VEVENT
DTSTART;TZID=UTC:20241001T100000
DTEND;TZID=UTC:20250423T150000
DTSTAMP:20260426T015542
CREATED:20240822T200515Z
LAST-MODIFIED:20250426T001642Z
UID:895-1727776800-1745420400@www.maverickgaming.com
SUMMARY:Slot Tournament $1500 Free Play | Gold Country Elko
DESCRIPTION:
URL:https://www.maverickgaming.com/gold-country-inn/event/slot-tournament-1500-free-play-gold-country-elko/
LOCATION:Gold Country Inn
ATTACH;FMTTYPE=image/jpeg:https://www.maverickgaming.com/gold-country-inn/wp-content/uploads/sites/9/2024/08/Gold-Country-Slot-Tournament_Aug24-Elko_1920x1080.jpg
END:VEVENT
BEGIN:VEVENT
DTSTART;VALUE=DATE:20241001
DTEND;VALUE=DATE:20241127
DTSTAMP:20260426T015542
CREATED:20240919T222047Z
LAST-MODIFIED:20241003T033406Z
UID:923-1727740800-1732665599@www.maverickgaming.com
SUMMARY:Harley-Davidson Giveaway | Gold Country Casino
DESCRIPTION:
URL:https://www.maverickgaming.com/gold-country-inn/event/harley-davidson-giveaway-gold-country-casino/
LOCATION:Gold Country Inn
CATEGORIES:Giveaways
ATTACH;FMTTYPE=image/png:https://www.maverickgaming.com/gold-country-inn/wp-content/uploads/sites/9/2024/09/30k-Harley-Davidson-Giveaway_Oct24-Elko_1920x1080.png
END:VEVENT
BEGIN:VEVENT
DTSTART;VALUE=DATE:20241001
DTEND;VALUE=DATE:20241030
DTSTAMP:20260426T015542
CREATED:20240919T223051Z
LAST-MODIFIED:20241003T033429Z
UID:932-1727740800-1730246399@www.maverickgaming.com
SUMMARY:S'more Tuesday Gift Giveaway | Gold Country Casino
DESCRIPTION:
URL:https://www.maverickgaming.com/gold-country-inn/event/smore-tuesday-gift-giveaway-gold-country-casino/
LOCATION:Gold Country Inn
CATEGORIES:Giveaways
ATTACH;FMTTYPE=image/jpeg:https://www.maverickgaming.com/gold-country-inn/wp-content/uploads/sites/9/2024/09/Smore-Tuesday-Gifts_Oct24-Elko_1920x1080-Web.jpg
END:VEVENT
BEGIN:VEVENT
DTSTART;TZID=UTC:20240913T181500
DTEND;TZID=UTC:20240913T190000
DTSTAMP:20260426T015542
CREATED:20240906T005108Z
LAST-MODIFIED:20241003T033509Z
UID:919-1726251300-1726254000@www.maverickgaming.com
SUMMARY:Jackpot Party $2\,500 | Gold Country Casino
DESCRIPTION:
URL:https://www.maverickgaming.com/gold-country-inn/event/jackpot-party-2500-gold-country-casino/
LOCATION:Gold Country Inn
CATEGORIES:Promotions
ATTACH;FMTTYPE=image/jpeg:https://www.maverickgaming.com/gold-country-inn/wp-content/uploads/sites/9/2024/09/Jackpot-Party-1920-x-1080.jpg
END:VEVENT
BEGIN:VEVENT
DTSTART;TZID=UTC:20240906T180000
DTEND;TZID=UTC:20240906T230000
DTSTAMP:20260426T015542
CREATED:20240708T185054Z
LAST-MODIFIED:20240822T205734Z
UID:879-1725645600-1725663600@www.maverickgaming.com
SUMMARY:Clay Walker | September 6th | Buy Tickets Now
DESCRIPTION:BUY NOW
URL:https://www.maverickgaming.com/gold-country-inn/event/clay-walker-september-6th-pre-sale-buy-now/
LOCATION:Gold Country Inn
ATTACH;FMTTYPE=image/jpeg:https://www.maverickgaming.com/gold-country-inn/wp-content/uploads/sites/9/2024/07/Clay-Walker-Opener_Elko_1920x1080.jpg
END:VEVENT
BEGIN:VEVENT
DTSTART;VALUE=DATE:20240906
DTEND;VALUE=DATE:20240930
DTSTAMP:20260426T015542
CREATED:20240831T032912Z
LAST-MODIFIED:20240831T032912Z
UID:913-1725580800-1727654399@www.maverickgaming.com
SUMMARY:Big Pull $10\,000 | Gold Country Inn
DESCRIPTION:
URL:https://www.maverickgaming.com/gold-country-inn/event/big-pull-10000-gold-country-inn/
LOCATION:Gold Country Inn
CATEGORIES:Promotions
ATTACH;FMTTYPE=image/jpeg:https://www.maverickgaming.com/gold-country-inn/wp-content/uploads/sites/9/2024/08/Big-Pull_Sept24_Elko_1920x1080.jpg
END:VEVENT
END:VCALENDAR