BEGIN:VCALENDAR
VERSION:2.0
PRODID:-//Gold Country Inn - ECPv6.3.5//NONSGML v1.0//EN
CALSCALE:GREGORIAN
METHOD:PUBLISH
X-ORIGINAL-URL:https://www.maverickgaming.com/gold-country-inn
X-WR-CALDESC:Events for Gold Country Inn
REFRESH-INTERVAL;VALUE=DURATION:PT1H
X-Robots-Tag:noindex
X-PUBLISHED-TTL:PT1H
BEGIN:VTIMEZONE
TZID:UTC
BEGIN:STANDARD
TZOFFSETFROM:+0000
TZOFFSETTO:+0000
TZNAME:UTC
DTSTART:20240101T000000
END:STANDARD
END:VTIMEZONE
BEGIN:VEVENT
DTSTART;TZID=UTC:20240801T190000
DTEND;TZID=UTC:20251124T220000
DTSTAMP:20260426T034938
CREATED:20240823T002207Z
LAST-MODIFIED:20241124T004707Z
UID:909-1722538800-1764021600@www.maverickgaming.com
SUMMARY:Saturday Night Hot Seats | Gold Country Elko
DESCRIPTION:
URL:https://www.maverickgaming.com/gold-country-inn/event/saturday-night-hot-seats-gold-country-elko/
LOCATION:Gold Country Inn
CATEGORIES:Promotions
ATTACH;FMTTYPE=image/jpeg:https://www.maverickgaming.com/gold-country-inn/wp-content/uploads/sites/9/2024/08/Saturday-Night-Gold-Country-Hot-Seats_Aug24-Elko_1920x1080.jpg
END:VEVENT
BEGIN:VEVENT
DTSTART;VALUE=DATE:20250605
DTEND;VALUE=DATE:20260529
DTSTAMP:20260426T034938
CREATED:20250522T054917Z
LAST-MODIFIED:20251211T162043Z
UID:1076-1749081600-1780012799@www.maverickgaming.com
SUMMARY:Thursday Pick and Pop | Gold Country Inn
DESCRIPTION:
URL:https://www.maverickgaming.com/gold-country-inn/event/thursday-pick-pop-gold-country-inn/
LOCATION:Gold Country Inn
CATEGORIES:Promotions
ATTACH;FMTTYPE=image/jpeg:https://www.maverickgaming.com/gold-country-inn/wp-content/uploads/sites/9/2025/05/Thursday_Pick__Pop_Jun25-Elko_1920x1080-web.jpg
END:VEVENT
BEGIN:VEVENT
DTSTART;VALUE=DATE:20251101
DTEND;VALUE=DATE:20251130
DTSTAMP:20260426T034938
CREATED:20251021T184654Z
LAST-MODIFIED:20251021T184654Z
UID:1187-1761955200-1764460799@www.maverickgaming.com
SUMMARY:Delta Gift Card Hot Seats | Gold Country Inn
DESCRIPTION:
URL:https://www.maverickgaming.com/gold-country-inn/event/delta-gift-card-hot-seats-gold-country-inn/
LOCATION:Gold Country Inn
CATEGORIES:Promotions
ATTACH;FMTTYPE=image/jpeg:https://www.maverickgaming.com/gold-country-inn/wp-content/uploads/sites/9/2025/10/Delta-Gift-Cards_Nov25-Elko_1920x1080-web.jpg
END:VEVENT
BEGIN:VEVENT
DTSTART;VALUE=DATE:20251104
DTEND;VALUE=DATE:20251126
DTSTAMP:20260426T034938
CREATED:20251021T185314Z
LAST-MODIFIED:20251021T185314Z
UID:1195-1762214400-1764115199@www.maverickgaming.com
SUMMARY:Sizzle & Serve Tuesday Gifts | Gold Country Inn
DESCRIPTION:
URL:https://www.maverickgaming.com/gold-country-inn/event/sizzle-serve-tuesday-gifts-gold-country-inn/
LOCATION:Gold Country Inn
CATEGORIES:Giveaways,Promotions
ATTACH;FMTTYPE=image/jpeg:https://www.maverickgaming.com/gold-country-inn/wp-content/uploads/sites/9/2025/10/Sizzle-Serve_Tuesday_Gifts_Nov25-Elko_1920x1080-web.jpg
END:VEVENT
BEGIN:VEVENT
DTSTART;TZID=UTC:20251107T180000
DTEND;TZID=UTC:20251128T210000
DTSTAMP:20260426T034939
CREATED:20251021T185648Z
LAST-MODIFIED:20251021T185648Z
UID:1199-1762538400-1764363600@www.maverickgaming.com
SUMMARY:Wheelin' in the Weekend! | Gold Country Inn
DESCRIPTION:
URL:https://www.maverickgaming.com/gold-country-inn/event/wheelin-in-the-weekend-gold-country-inn/
LOCATION:Gold Country Inn
CATEGORIES:Promotions
ATTACH;FMTTYPE=image/jpeg:https://www.maverickgaming.com/gold-country-inn/wp-content/uploads/sites/9/2025/10/Wheelin_in_the_Weekend_Nov25-Elko_1920x1080-web.jpg
END:VEVENT
BEGIN:VEVENT
DTSTART;VALUE=DATE:20251114
DTEND;VALUE=DATE:20251115
DTSTAMP:20260426T034939
CREATED:20251021T185138Z
LAST-MODIFIED:20251021T185138Z
UID:1191-1763078400-1763164799@www.maverickgaming.com
SUMMARY:Jackpot Party $2\,500 | Gold Country Inn
DESCRIPTION:
URL:https://www.maverickgaming.com/gold-country-inn/event/jackpot-party-2500-gold-country-inn-7/
LOCATION:Gold Country Inn
CATEGORIES:Promotions,Special Events
ATTACH;FMTTYPE=image/jpeg:https://www.maverickgaming.com/gold-country-inn/wp-content/uploads/sites/9/2025/10/Jackpot-Party_Nov25_Elko_WEB_1920x1080.jpg
END:VEVENT
BEGIN:VEVENT
DTSTART;TZID=UTC:20251127T110000
DTEND;TZID=UTC:20251127T220000
DTSTAMP:20260426T034939
CREATED:20251117T215501Z
LAST-MODIFIED:20251117T215501Z
UID:1208-1764241200-1764280800@www.maverickgaming.com
SUMMARY:Thanksgiving 2025 Menu | Elko Restaurants
DESCRIPTION:
URL:https://www.maverickgaming.com/gold-country-inn/event/thanksgiving-2025-menu-elko-restaurants/
CATEGORIES:Promotions,Special Events
ATTACH;FMTTYPE=image/jpeg:https://www.maverickgaming.com/gold-country-inn/wp-content/uploads/sites/9/2025/11/2025-Thanksgiving-meal-V3-1920-x-1080-px.jpg
END:VEVENT
END:VCALENDAR