BEGIN:VCALENDAR
VERSION:2.0
PRODID:-//Maverick Gaming Washington - ECPv6.3.5//NONSGML v1.0//EN
CALSCALE:GREGORIAN
METHOD:PUBLISH
X-ORIGINAL-URL:https://www.maverickgaming.com/maverick-washington
X-WR-CALDESC:Events for Maverick Gaming Washington
REFRESH-INTERVAL;VALUE=DURATION:PT1H
X-Robots-Tag:noindex
X-PUBLISHED-TTL:PT1H
BEGIN:VTIMEZONE
TZID:UTC
BEGIN:STANDARD
TZOFFSETFROM:+0000
TZOFFSETTO:+0000
TZNAME:UTC
DTSTART:20240101T000000
END:STANDARD
END:VTIMEZONE
BEGIN:VEVENT
DTSTART;VALUE=DATE:20240627
DTEND;VALUE=DATE:20270101
DTSTAMP:20260423T071129
CREATED:20240627T192949Z
LAST-MODIFIED:20240627T193016Z
UID:3815-1719446400-1798761599@www.maverickgaming.com
SUMMARY:Silver Dollar Seatac | Aviation Industry Deals
DESCRIPTION:Aviation Industry Deals\nEvery Day \n35% Off One Entree\n(Limit One) \n35% Off All Drinks\n(Up to $500) \nMust have Industry ID.
URL:https://www.maverickgaming.com/maverick-washington/event/silver-dollar-casino-seatac-aviation-industry-deals/
LOCATION:Silver Dollar Casino Seatac\, 19222 International Blvd\, Seatac\, WA\, 98188\, United States
CATEGORIES:Bar & Restaurant
ATTACH;FMTTYPE=image/png:https://www.maverickgaming.com/maverick-washington/wp-content/uploads/sites/6/2024/06/SDS_AviationIndustryDeals_Jun24.png
END:VEVENT
BEGIN:VEVENT
DTSTART;VALUE=DATE:20240701
DTEND;VALUE=DATE:20270101
DTSTAMP:20260423T071129
CREATED:20240628T190222Z
LAST-MODIFIED:20240716T191313Z
UID:3820-1719792000-1798761599@www.maverickgaming.com
SUMMARY:Palace Casino | Military Discount
DESCRIPTION:MILITARY DISCOUNT\nEvery day! \nShow your Military ID and receive 50% off your entire tab up to $250! \nDine-in only. Must be 18 years of age or older and 21 years of age or older for alcohol. Cannot be combined with any other offers or discounts. Must show proof of active\, retired\, or DOD military.
URL:https://www.maverickgaming.com/maverick-washington/event/chips-casino-macau-casino-palace-casino-military-discount/
LOCATION:Palace Casino\, 8200 Tacoma Mall Blvd\, Lakewood\, WA\, 98499\, United States
CATEGORIES:Bar & Restaurant
ATTACH;FMTTYPE=image/png:https://www.maverickgaming.com/maverick-washington/wp-content/uploads/sites/6/2024/06/PAL_MilitaryDiscount_Jul24.png
END:VEVENT
END:VCALENDAR