BEGIN:VCALENDAR
VERSION:2.0
PRODID:-//Red Garter Casino | Wendover - ECPv6.3.5//NONSGML v1.0//EN
CALSCALE:GREGORIAN
METHOD:PUBLISH
X-WR-CALNAME:Red Garter Casino | Wendover
X-ORIGINAL-URL:https://www.maverickgaming.com/red-garter
X-WR-CALDESC:Events for Red Garter Casino | Wendover
REFRESH-INTERVAL;VALUE=DURATION:PT1H
X-Robots-Tag:noindex
X-PUBLISHED-TTL:PT1H
BEGIN:VTIMEZONE
TZID:UTC
BEGIN:STANDARD
TZOFFSETFROM:+0000
TZOFFSETTO:+0000
TZNAME:UTC
DTSTART:20260101T000000
END:STANDARD
END:VTIMEZONE
BEGIN:VEVENT
DTSTART;VALUE=DATE:20260417
DTEND;VALUE=DATE:20260420
DTSTAMP:20260423T090351
CREATED:20260320T183823Z
LAST-MODIFIED:20260320T183823Z
UID:2301-1776384000-1776643199@www.maverickgaming.com
SUMMARY:April U-Spin | Red Garter Casino
DESCRIPTION:
URL:https://www.maverickgaming.com/red-garter/event/april-u-spin-red-garter-casino/
LOCATION:Red Garter Hotel & Casino\, 1225 Wendover Blvd\, West Wendover\, NV\, 89883\, United States
CATEGORIES:Promotions
ATTACH;FMTTYPE=image/jpeg:https://www.maverickgaming.com/red-garter/wp-content/uploads/sites/13/2026/03/USpin_Apr26_Wen_1920x1080-Web.jpg
END:VEVENT
BEGIN:VEVENT
DTSTART;TZID=UTC:20260419T120000
DTEND;TZID=UTC:20260419T120000
DTSTAMP:20260423T090351
CREATED:20260320T183443Z
LAST-MODIFIED:20260320T183443Z
UID:2293-1776600000-1776600000@www.maverickgaming.com
SUMMARY:Jackpot Party $10\,000 | Red Garter Casino
DESCRIPTION:
URL:https://www.maverickgaming.com/red-garter/event/jackpot-party-10000-red-garter-casino-5/
LOCATION:Red Garter Hotel & Casino\, 1225 Wendover Blvd\, West Wendover\, NV\, 89883\, United States
CATEGORIES:Promotions,Special Events
ATTACH;FMTTYPE=image/jpeg:https://www.maverickgaming.com/red-garter/wp-content/uploads/sites/13/2026/03/Jackpot-Party_Apr26_Wen_1920x1080-Website.jpg
END:VEVENT
BEGIN:VEVENT
DTSTART;VALUE=DATE:20260424
DTEND;VALUE=DATE:20260427
DTSTAMP:20260423T090351
CREATED:20260320T183203Z
LAST-MODIFIED:20260320T183204Z
UID:2289-1776988800-1777247999@www.maverickgaming.com
SUMMARY:Hot Seats Multiplier $15\,000 | Red Garter Casino
DESCRIPTION:
URL:https://www.maverickgaming.com/red-garter/event/hot-seats-multiplier-15000-red-garter-casino-2/
LOCATION:Red Garter Hotel & Casino\, 1225 Wendover Blvd\, West Wendover\, NV\, 89883\, United States
CATEGORIES:Promotions
ATTACH;FMTTYPE=image/jpeg:https://www.maverickgaming.com/red-garter/wp-content/uploads/sites/13/2026/03/Hot-Seat-Multiplier_Apr26_Wen_1920x1080-Web.jpg
END:VEVENT
BEGIN:VEVENT
DTSTART;VALUE=DATE:20260501
DTEND;VALUE=DATE:20260504
DTSTAMP:20260423T090351
CREATED:20260422T041126Z
LAST-MODIFIED:20260422T041126Z
UID:2361-1777593600-1777852799@www.maverickgaming.com
SUMMARY:Prospector's Plunge Weekend $15\,000 | Red Garter Casino
DESCRIPTION:
URL:https://www.maverickgaming.com/red-garter/event/prospectors-plunge-weekend-15000-red-garter-casino-2/
LOCATION:Red Garter Hotel & Casino\, 1225 Wendover Blvd\, West Wendover\, NV\, 89883\, United States
CATEGORIES:Promotions,Tournament
ATTACH;FMTTYPE=image/jpeg:https://www.maverickgaming.com/red-garter/wp-content/uploads/sites/13/2026/04/15k-Prospectors-Plunge_May26_Wen_WEB_1920x1080.jpg
END:VEVENT
BEGIN:VEVENT
DTSTART;VALUE=DATE:20260501
DTEND;VALUE=DATE:20260824
DTSTAMP:20260423T090351
CREATED:20260422T040505Z
LAST-MODIFIED:20260422T040505Z
UID:2348-1777593600-1787529599@www.maverickgaming.com
SUMMARY:Summer Mega Free Play Bonanza $125\,000 | Red Garter Casino
DESCRIPTION:
URL:https://www.maverickgaming.com/red-garter/event/summer-mega-free-play-bonanza-125000-red-garter-casino/
LOCATION:Red Garter Hotel & Casino\, 1225 Wendover Blvd\, West Wendover\, NV\, 89883\, United States
CATEGORIES:Promotions
ATTACH;FMTTYPE=image/jpeg:https://www.maverickgaming.com/red-garter/wp-content/uploads/sites/13/2026/04/125k-Summer-Mega-FP-Bonanza_May26_Wen_1920x1080-Web.jpg
END:VEVENT
BEGIN:VEVENT
DTSTART;VALUE=DATE:20260508
DTEND;VALUE=DATE:20260511
DTSTAMP:20260423T090351
CREATED:20260422T040746Z
LAST-MODIFIED:20260422T040855Z
UID:2356-1778198400-1778457599@www.maverickgaming.com
SUMMARY:Cash Cube Grab Drawings | Red Garter Casino
DESCRIPTION:
URL:https://www.maverickgaming.com/red-garter/event/2356/
LOCATION:Red Garter Hotel & Casino\, 1225 Wendover Blvd\, West Wendover\, NV\, 89883\, United States
CATEGORIES:Promotions
ATTACH;FMTTYPE=image/jpeg:https://www.maverickgaming.com/red-garter/wp-content/uploads/sites/13/2026/04/Cash-Cube-Grab-Drawings_May26_Wen_1920x1080-Web.jpg
END:VEVENT
BEGIN:VEVENT
DTSTART;VALUE=DATE:20260515
DTEND;VALUE=DATE:20260517
DTSTAMP:20260423T090351
CREATED:20260422T040615Z
LAST-MODIFIED:20260422T040615Z
UID:2352-1778803200-1778975999@www.maverickgaming.com
SUMMARY:Spring Fling Slot Tournament $15\,000 | Red Garter Casino
DESCRIPTION:
URL:https://www.maverickgaming.com/red-garter/event/spring-fling-slot-tournament-15000-red-garter-casino/
LOCATION:Red Garter Hotel & Casino\, 1225 Wendover Blvd\, West Wendover\, NV\, 89883\, United States
CATEGORIES:Promotions
ATTACH;FMTTYPE=image/jpeg:https://www.maverickgaming.com/red-garter/wp-content/uploads/sites/13/2026/04/15k-Spring-Fling-Tournament_May26_Wen_1920x1080-Web.jpg
END:VEVENT
BEGIN:VEVENT
DTSTART;VALUE=DATE:20260522
DTEND;VALUE=DATE:20260526
DTSTAMP:20260423T090351
CREATED:20260422T042242Z
LAST-MODIFIED:20260422T042242Z
UID:2365-1779408000-1779753599@www.maverickgaming.com
SUMMARY:May U-Spin | Red Garter Casino
DESCRIPTION:
URL:https://www.maverickgaming.com/red-garter/event/may-u-spin-red-garter-casino/
LOCATION:Red Garter Hotel & Casino\, 1225 Wendover Blvd\, West Wendover\, NV\, 89883\, United States
CATEGORIES:Promotions
ATTACH;FMTTYPE=image/jpeg:https://www.maverickgaming.com/red-garter/wp-content/uploads/sites/13/2026/04/USpin_May26_Wen_1920x1080-Web.jpg
END:VEVENT
END:VCALENDAR