BEGIN:VCALENDAR
VERSION:2.0
PRODID:-//Wendover Nugget Hotel and Casino - ECPv6.3.5//NONSGML v1.0//EN
CALSCALE:GREGORIAN
METHOD:PUBLISH
X-ORIGINAL-URL:https://www.maverickgaming.com/wendover-nugget
X-WR-CALDESC:Events for Wendover Nugget Hotel and Casino
REFRESH-INTERVAL;VALUE=DURATION:PT1H
X-Robots-Tag:noindex
X-PUBLISHED-TTL:PT1H
BEGIN:VTIMEZONE
TZID:UTC
BEGIN:STANDARD
TZOFFSETFROM:+0000
TZOFFSETTO:+0000
TZNAME:UTC
DTSTART:20260101T000000
END:STANDARD
END:VTIMEZONE
BEGIN:VEVENT
DTSTART;VALUE=DATE:20260501
DTEND;VALUE=DATE:20260504
DTSTAMP:20260423T010101
CREATED:20260422T041233Z
LAST-MODIFIED:20260422T041233Z
UID:4050-1777593600-1777852799@www.maverickgaming.com
SUMMARY:Prospector's Plunge Weekend $15\,000 | Wendover Nugget
DESCRIPTION:
URL:https://www.maverickgaming.com/wendover-nugget/event/prospectors-plunge-weekend-15000-wendover-nugget-3/
LOCATION:Wendover Nugget\, 101 Wendover Boulevard\, West Wendover\, NV\, 89883\, United States
CATEGORIES:Promotions
ATTACH;FMTTYPE=image/jpeg:https://www.maverickgaming.com/wendover-nugget/wp-content/uploads/sites/12/2026/04/15k-Prospectors-Plunge_May26_Wen_WEB_1920x1080.jpg
END:VEVENT
BEGIN:VEVENT
DTSTART;VALUE=DATE:20260501
DTEND;VALUE=DATE:20260824
DTSTAMP:20260423T010101
CREATED:20260422T040434Z
LAST-MODIFIED:20260422T040435Z
UID:4034-1777593600-1787529599@www.maverickgaming.com
SUMMARY:Summer Mega Free Play Bonanza $125\,000 | Wendover Nugget
DESCRIPTION:
URL:https://www.maverickgaming.com/wendover-nugget/event/summer-mega-free-play-bonanza-125000-wendover-nugget/
LOCATION:Wendover Nugget\, 101 Wendover Boulevard\, West Wendover\, NV\, 89883\, United States
CATEGORIES:Promotions
ATTACH;FMTTYPE=image/jpeg:https://www.maverickgaming.com/wendover-nugget/wp-content/uploads/sites/12/2026/04/125k-Summer-Mega-FP-Bonanza_May26_Wen_1920x1080-Web.jpg
END:VEVENT
BEGIN:VEVENT
DTSTART;VALUE=DATE:20260508
DTEND;VALUE=DATE:20260511
DTSTAMP:20260423T010101
CREATED:20260422T040815Z
LAST-MODIFIED:20260422T040815Z
UID:4042-1778198400-1778457599@www.maverickgaming.com
SUMMARY:Cash Cube Grab Drawings | Wendover Nugget
DESCRIPTION:
URL:https://www.maverickgaming.com/wendover-nugget/event/cash-cube-grab-drawings-wendover-nugget-4/
LOCATION:Wendover Nugget\, 101 Wendover Boulevard\, West Wendover\, NV\, 89883\, United States
CATEGORIES:Promotions
ATTACH;FMTTYPE=image/jpeg:https://www.maverickgaming.com/wendover-nugget/wp-content/uploads/sites/12/2026/04/Cash-Cube-Grab-Drawings_May26_Wen_1920x1080-Web.jpg
END:VEVENT
BEGIN:VEVENT
DTSTART;VALUE=DATE:20260515
DTEND;VALUE=DATE:20260517
DTSTAMP:20260423T010101
CREATED:20260422T040635Z
LAST-MODIFIED:20260422T040635Z
UID:4038-1778803200-1778975999@www.maverickgaming.com
SUMMARY:Spring Fling Slot Tournament $15\,000 | Wendover Nugget
DESCRIPTION:
URL:https://www.maverickgaming.com/wendover-nugget/event/spring-fling-slot-tournament-15000-wendover-nugget/
LOCATION:Wendover Nugget\, 101 Wendover Boulevard\, West Wendover\, NV\, 89883\, United States
CATEGORIES:Promotions
ATTACH;FMTTYPE=image/jpeg:https://www.maverickgaming.com/wendover-nugget/wp-content/uploads/sites/12/2026/04/15k-Spring-Fling-Tournament_May26_Wen_1920x1080-Web.jpg
END:VEVENT
BEGIN:VEVENT
DTSTART;VALUE=DATE:20260522
DTEND;VALUE=DATE:20260526
DTSTAMP:20260423T010101
CREATED:20260422T042349Z
LAST-MODIFIED:20260422T042350Z
UID:4054-1779408000-1779753599@www.maverickgaming.com
SUMMARY:May U-Spin | Wendover Nugget
DESCRIPTION:
URL:https://www.maverickgaming.com/wendover-nugget/event/may-u-spin-wendover-nugget/
LOCATION:Wendover Nugget\, 101 Wendover Boulevard\, West Wendover\, NV\, 89883\, United States
CATEGORIES:Promotions
ATTACH;FMTTYPE=image/jpeg:https://www.maverickgaming.com/wendover-nugget/wp-content/uploads/sites/12/2026/04/USpin_May26_Wen_1920x1080-Web.jpg
END:VEVENT
BEGIN:VEVENT
DTSTART;TZID=UTC:20260529T200000
DTEND;TZID=UTC:20260529T210000
DTSTAMP:20260423T010101
CREATED:20260422T040932Z
LAST-MODIFIED:20260422T040932Z
UID:4046-1780084800-1780088400@www.maverickgaming.com
SUMMARY:May Birthday Celebration | WendoverNugget
DESCRIPTION:
URL:https://www.maverickgaming.com/wendover-nugget/event/may-birthday-celebration-wendovernugget/
LOCATION:Wendover Nugget\, 101 Wendover Boulevard\, West Wendover\, NV\, 89883\, United States
CATEGORIES:Promotions
ATTACH;FMTTYPE=image/jpeg:https://www.maverickgaming.com/wendover-nugget/wp-content/uploads/sites/12/2026/04/1920x1080_Web_Birthday-Celebration_May26_Wen.jpg
END:VEVENT
END:VCALENDAR